BEGIN:VCALENDAR
VERSION:2.0
PRODID:-//Voile et Croisière en Liberté - ECPv6.15.17.1//NONSGML v1.0//EN
CALSCALE:GREGORIAN
METHOD:PUBLISH
X-ORIGINAL-URL:https://vcl.fr
X-WR-CALDESC:Évènements pour Voile et Croisière en Liberté
REFRESH-INTERVAL;VALUE=DURATION:PT1H
X-Robots-Tag:noindex
X-PUBLISHED-TTL:PT1H
BEGIN:VTIMEZONE
TZID:Europe/Paris
BEGIN:DAYLIGHT
TZOFFSETFROM:+0100
TZOFFSETTO:+0200
TZNAME:CEST
DTSTART:20230326T010000
END:DAYLIGHT
BEGIN:STANDARD
TZOFFSETFROM:+0200
TZOFFSETTO:+0100
TZNAME:CET
DTSTART:20231029T010000
END:STANDARD
BEGIN:DAYLIGHT
TZOFFSETFROM:+0100
TZOFFSETTO:+0200
TZNAME:CEST
DTSTART:20240331T010000
END:DAYLIGHT
BEGIN:STANDARD
TZOFFSETFROM:+0200
TZOFFSETTO:+0100
TZNAME:CET
DTSTART:20241027T010000
END:STANDARD
BEGIN:DAYLIGHT
TZOFFSETFROM:+0100
TZOFFSETTO:+0200
TZNAME:CEST
DTSTART:20250330T010000
END:DAYLIGHT
BEGIN:STANDARD
TZOFFSETFROM:+0200
TZOFFSETTO:+0100
TZNAME:CET
DTSTART:20251026T010000
END:STANDARD
END:VTIMEZONE
BEGIN:VEVENT
DTSTART;TZID=Europe/Paris:20240615T090000
DTEND;TZID=Europe/Paris:20240616T170000
DTSTAMP:20260420T160612
CREATED:20240131T181905Z
LAST-MODIFIED:20240515T104216Z
UID:10000083-1718442000-1718557200@vcl.fr
SUMMARY:Week-end à Lyon / ANNULE
DESCRIPTION: Meyzieu \n\n\n\n multi supports \n\n\n\n\n\n\n\n\n\ndragon boat\n\n\n\nActivité ouverte à tous\, adhérents et non-adhérents\, tous niveaux \n\n\n\nLa base nautique de Meyzieu qui organisera l’épreuve de voile pour les EuroGames 2025 nous propose un programme des plus variés : \n\n\n\n\nSamedi : voile (dériveur\, cata ou habitable) et dragon boat l’après-midi\n\n\n\nDimanche : kayak\, paddle solo ou collectif et voile de nouveau l’après-midi\n\n\n\n\nPlus d’infos ?Contacte Thierry à croisiere@vcl.fr
URL:https://vcl.fr/index.php/activite/week-end-a-lyon/
LOCATION:Base nautique de Meyzieu\, 121 Av. du Carreau\, Meyzieu\, 69330\, France
CATEGORIES:Lyon,Multi activités,Multisports,Voile légère
ATTACH;FMTTYPE=image/jpeg:https://vcl.fr/wp-content/uploads/2024/01/hobicat-mezieu.jpg
END:VEVENT
BEGIN:VEVENT
DTSTART;TZID=Europe/Paris:20240525T093000
DTEND;TZID=Europe/Paris:20240526T170000
DTSTAMP:20260420T160612
CREATED:20240222T212921Z
LAST-MODIFIED:20240427T112941Z
UID:10000078-1716629400-1716742800@vcl.fr
SUMMARY:Forêt d'Orient\, un WE au milieu de la nature
DESCRIPTION:Mesnil-Saint-Père (près de Troyes) \n\n\n\n cata\, kayak\, paddle\, vtt… \n\n\n\n 235€/pers pour les 2 jours.Trajet non compris. \n\n\n\n\n\n\n\n\n\nAu pied du bassin parisien s’étend un vaste espace naturel où l’eau\, la terre et la forêt se sont alliés pour donner naissance à un territoire singulier : le Parc naturel régional de la Forêt d’Orient.Les 3 lacs-réservoirs nichés au creux des forêts profondes d’Orient font le bonheur des sportifs et des amoureux de la nature ! \n\n\n\nNous vous proposons à nouveau de passer le WE entre terre et mer. La base nautique du Mesnil Saint Père nous accueille pour des séances de catamaran sur Hobbie Cat et/ou de Paddles géant pour 6. S’il n’y a pas de vent\, nous aurons la possibilité de faire du vélo autour du lac\, au milieu de cet écrin de verdure. \n\n\n\n\n2 séances nautiques encadrées par personnel qualifié (catamaran\, kayak\, paddle)\n\n\n\nRepas : du samedi au dimanche\, 2 petits déjeuners\,2 paniers repas et 1 dînerParcours en Catamaran de loisirs (Hobie Cat)\, aviron\, randonnée\, VTT… que d’activités possibles dans cet écrin de verdure et de sérénité.\n\n\n\n\nHébergement\, 2 nuits vendredi et samedi soir en bungalows. \n\n\n\nLes modalités : – Être à jour de sa cotisation VCL. – Aucune connaissance de voile nécessaire. – Budget 235 € par personne + Transport. (hébergement et repas compris) – Départ le vendredi soir\, organisation possible de covoiturages ou train. \n\n\n\n\n\nAcompte\n\n\n\n\n\n\n\nIntéressé.e ? Plus d’infos ?Contacte Philippe à voile-legere@vcl.fr
URL:https://vcl.fr/index.php/activite/foret-dorient-un-we-au-milieu-de-la-nature/
CATEGORIES:Multi activités,Multisports,Voile légère
ATTACH;FMTTYPE=image/jpeg:https://vcl.fr/wp-content/uploads/2024/01/DSC01002.jpg
END:VEVENT
BEGIN:VEVENT
DTSTART;TZID=Europe/Paris:20240508T090000
DTEND;TZID=Europe/Paris:20240512T170000
DTSTAMP:20260420T160612
CREATED:20240214T174648Z
LAST-MODIFIED:20250503T113911Z
UID:10000079-1715158800-1715533200@vcl.fr
SUMMARY:Brest\, Ouessant et les abers
DESCRIPTION:Brest \n\n\n\n   Sun Odyssey 349 \n\n\n\n   450 €/pers.sur base 5 personnes.Alimentation et trajet non compris   \n\n\n\n\n\n\n\n\n\nCOMPLET \n\n\n\nPlein Ouest\, cap sur la rade de Brest\, la presqu’île de Crozon\, le chenal du Four\, Ouessant et les abers … selon la météo. Grand bol de nature sauvage et paysages uniques. \n\n\n\nPossibilité de coucher à bord la veille. Possibilité d’un second bateau si suffisamment d’inscrit.e.s très rapidement \n\n\n\n\n\n\n\n\n\n\n\nPlus d’infos ?Contacte Thierry à croisiere@vcl.fr
URL:https://vcl.fr/index.php/activite/brest-ouessant-et-les-abers/
LOCATION:port du moulin blanc\, brest\, france\, Port de plaisance du Moulin Blanc\, Brest\, France\, 29200
CATEGORIES:Bretagne,Manche,Voile Habitable
ATTACH;FMTTYPE=image/jpeg:https://vcl.fr/wp-content/uploads/2024/02/Ouessant.jpg
END:VEVENT
BEGIN:VEVENT
DTSTART;TZID=Europe/Paris:20240427T080000
DTEND;TZID=Europe/Paris:20240501T170000
DTSTAMP:20260420T160612
CREATED:20240126T205046Z
LAST-MODIFIED:20240425T083327Z
UID:10000085-1714204800-1714582800@vcl.fr
SUMMARY:Bretagne Sud
DESCRIPTION:La Trinité-sur-Mer \n\n\n\n   Dufour 405 et Océanis 34 \n\n\n\n   270 €/pers.sur base 11 personnes.Alimentation et trajet non compris \n\n\n\n   \n\n\n\n\n\n\n\n\n\n \n\n\n\nCOMPLET \n\n\n\nPour le pont du 1er mai\, croisière de 5 jours à la découverte des îles préservées de Houat\, Hoëdic\, Belle-île\, Groix\, les Glénans\, … selon la météo. \n\n\n\nPossibilité d’arriver la veille au soir sur le bateau.  \n\n\n\n\n\n\n\n\n\n\n\nPlus d’infos ?Contacte Thierry à croisiere@vcl.fr
URL:https://vcl.fr/index.php/activite/bretagne-sud/
LOCATION:La Trinité-sur-Mer\, Cr des Quais\, La Trinité-sur-Mer\, 56470\, France
CATEGORIES:Atlantique,Bretagne,Voile Habitable
ATTACH;FMTTYPE=image/jpeg:https://vcl.fr/wp-content/uploads/2024/01/VCL_1605_6562_Houat_JPG.jpg
END:VEVENT
BEGIN:VEVENT
DTSTART;TZID=Europe/Paris:20240407T140000
DTEND;TZID=Europe/Paris:20240407T170000
DTSTAMP:20260420T160612
CREATED:20240217T164340Z
LAST-MODIFIED:20240217T164344Z
UID:10000091-1712498400-1712509200@vcl.fr
SUMMARY:Printemps des Associations
DESCRIPTION:Venez nous rencontrer lors du Printemps des Assocoes organisé par le Centre LGBTQI+ de Paris IDF. \n\n\n\nEn qualité d’association adhérente\, nous aurons un stand. On répondra à toutes vos questions ! \n\n\n\nEntrée libre.
URL:https://vcl.fr/index.php/activite/printemps-des-associations/2024-04-07/
LOCATION:Halles de Blancs Manteaux\, 48 Rue Vieille du Temple\, Paris\, 75004\, France
CATEGORIES:Convivialité,Rencontre
ATTACH;FMTTYPE=image/jpeg:https://vcl.fr/wp-content/uploads/2024/02/Printemps-des-Assoces-2024.jpg
END:VEVENT
BEGIN:VEVENT
DTSTART;TZID=Europe/Paris:20240406T140000
DTEND;TZID=Europe/Paris:20240406T170000
DTSTAMP:20260420T160612
CREATED:20240217T164340Z
LAST-MODIFIED:20240217T164344Z
UID:10000090-1712412000-1712422800@vcl.fr
SUMMARY:Printemps des Associations
DESCRIPTION:Venez nous rencontrer lors du Printemps des Assocoes organisé par le Centre LGBTQI+ de Paris IDF. \n\n\n\nEn qualité d’association adhérente\, nous aurons un stand. On répondra à toutes vos questions ! \n\n\n\nEntrée libre.
URL:https://vcl.fr/index.php/activite/printemps-des-associations/2024-04-06/
LOCATION:Halles de Blancs Manteaux\, 48 Rue Vieille du Temple\, Paris\, 75004\, France
CATEGORIES:Convivialité,Rencontre
ATTACH;FMTTYPE=image/jpeg:https://vcl.fr/wp-content/uploads/2024/02/Printemps-des-Assoces-2024.jpg
END:VEVENT
BEGIN:VEVENT
DTSTART;TZID=Europe/Paris:20240406T090000
DTEND;TZID=Europe/Paris:20240407T180000
DTSTAMP:20260420T160612
CREATED:20231206T223902Z
LAST-MODIFIED:20240218T183415Z
UID:10000067-1712394000-1712512800@vcl.fr
SUMMARY:Régate - Championnat d'hiver
DESCRIPTION: Le Havre \n\n\n\n J80 \n\n\n\n environ 190 €/pers.sur base 5 personnes.Alimentation et trajet compris \n\n\n\n 101 € d’acompte par personne \n\n\n\n\n\n\n\n\n\nPlace à la compétition ! Voilà une nouvelle occasion de mettre en pratique notre savoir acquis en entraînement et de tester nos performances en conditions réelles. Le Championnat d’hiver (classé départemental) se déroulera en plusieurs sessions : 1 par mois d’octobre à avril. \n\n\n\nActivité sportive sur J80\, bateaux de 8\,5 m embarquant 3 à 5 personnes.Les modalités :– Être à jour de sa cotisation VCL.– Connaissance de base en voile nécessaire.– Bonne condition physique.– Budget d’environ 190 € par personne (transport\, hôtel\, bateau)\, hébergement à l’hôtel ou en AirBnB.– Licence FFVoile obligatoire. Pour les non-licenciés\, licence temporaire à 34 € ou licence annuelle à 68 €.Pour rappel\, l’AG a voté le remboursement de 35 € pour tout.e adhérent.e prenant une licence annuelle dans le cadre des activités de VCL.– Départ le vendredi soir ou samedi matin\, organisation de covoiturages ou train.– Prévoir une tenue adéquate selon la météo + gants de voile et chaussures fermées. \n\n\n\n\n\nAcompte\n\n\n\n\n\n\n\nPlus d’infos ?Contacte Philippe à voile-legere@vcl.fr
URL:https://vcl.fr/index.php/activite/regate-championnat-dhiver-10/
LOCATION:Société des Régates du Havre\, Quai Eric Tabarly\, Le Havre\, 76600\, France
CATEGORIES:Normandie,Régate,Voile Sportive
ATTACH;FMTTYPE=image/png:https://vcl.fr/wp-content/uploads/2023/12/202206_Regate.png
END:VEVENT
BEGIN:VEVENT
DTSTART;TZID=Europe/Paris:20240402T200000
DTEND;TZID=Europe/Paris:20240402T210000
DTSTAMP:20260420T160612
CREATED:20231206T224232Z
LAST-MODIFIED:20240201T132902Z
UID:10000070-1712088000-1712091600@vcl.fr
SUMMARY:Apéro mensuel en présentiel
DESCRIPTION:Tout le monde est bienvenue. Venez nous rejoindre autour d’un verre et posez vos questions. C’est une excellente façon de faire connaissance avec notre association. \n\n\n\nPlus d’infos ? contact@vcl.fr
URL:https://vcl.fr/index.php/activite/apero-mensuel-en-presentiel-4/
LOCATION:Zebaar\, 41 Rue des Blancs Manteaux\, Paris\, 7004\, France
CATEGORIES:Convivialité,Rencontre
ATTACH;FMTTYPE=image/png:https://vcl.fr/wp-content/uploads/2023/12/pinte-biere.png
END:VEVENT
BEGIN:VEVENT
DTSTART;TZID=Europe/Paris:20240402T193000
DTEND;TZID=Europe/Paris:20240402T200000
DTSTAMP:20260420T160612
CREATED:20240218T194149Z
LAST-MODIFIED:20240218T194149Z
UID:10000096-1712086200-1712088000@vcl.fr
SUMMARY:Apéro bimestriel en Visio
DESCRIPTION:Tout le monde est bienvenue. \n\n\n\nRejoignez-nous sur ZOOM et posez vos questions. Idéal pour faire connaissance avec notre association et se tenir informé des prochaines actualités. \n\n\n\nLien ZOOM :https://us04web.zoom.us/j/71948908377?pwd=dFR2WVU3b0xjQjhHU2RNd2gvU00rZz09ID de réunion: 719 4890 8377Code secret: 4QZiMh
URL:https://vcl.fr/index.php/activite/apero-bimestriel-en-visio/
CATEGORIES:Convivialité,Découverte,Rencontre
ATTACH;FMTTYPE=image/png:https://vcl.fr/wp-content/uploads/2023/12/Zoom-icon_300x300-copy.png
END:VEVENT
BEGIN:VEVENT
DTSTART;TZID=Europe/Paris:20240330T090000
DTEND;TZID=Europe/Paris:20240402T170000
DTSTAMP:20260420T160612
CREATED:20240121T170216Z
LAST-MODIFIED:20240307T202037Z
UID:10000076-1711789200-1712077200@vcl.fr
SUMMARY:Marseille et ses Calanques
DESCRIPTION:Marseille \n\n\n\n   Dufour 390 GL \n\n\n\n   290 €/pers.sur base 6 personnes.Alimentation et trajet non compris \n\n\n\n     \n\n\n\n\n\n\n\n\n\nCOMPLET \n\n\n\nPour le week-end de Pâques\, nous vous proposons une croisière de 4 jours au départ du vieux port de Marseille. Une occasion unique de découvrir les îles du Frioul et les calanques désertes en cette avant saison. \n\n\n\nPossibilité d’arriver la veille au soir sur le bateau. \n\n\n\n\n\nPAF\n\n\n\n\n\n\n\nPlus d’infos ?Contacte Thierry à croisiere@vcl.fr
URL:https://vcl.fr/index.php/activite/marseilles-en-calanques/
CATEGORIES:Calanques,Méditerranée,Voile Habitable
ATTACH;FMTTYPE=image/jpeg:https://vcl.fr/wp-content/uploads/2024/01/20220415_173242_jpg.jpg
END:VEVENT
BEGIN:VEVENT
DTSTART;TZID=Europe/Paris:20240309T090000
DTEND;TZID=Europe/Paris:20240310T180000
DTSTAMP:20260420T160612
CREATED:20231206T223816Z
LAST-MODIFIED:20240218T185359Z
UID:10000066-1709974800-1710093600@vcl.fr
SUMMARY:Régate - Championnat d'hiver
DESCRIPTION: Le Havre \n\n\n\n J80 \n\n\n\n environ 190 €/pers.sur base 5 personnes.Alimentation et trajet compris \n\n\n\n 101 € d’acompte par personne \n\n\n\n\n\n\n\n\n\nPlace à la compétition ! Voilà une nouvelle occasion de mettre en pratique notre savoir acquis en entraînement et de tester nos performances en conditions réelles. Le Championnat d’hiver (classé départemental) se déroulera en plusieurs sessions : 1 par mois d’octobre à avril. \n\n\n\nActivité sportive sur J80\, bateaux de 8\,5 m embarquant 3 à 5 personnes.Les modalités :– Être à jour de sa cotisation VCL.– Connaissance de base en voile nécessaire.– Bonne condition physique.– Budget d’environ 190 € par personne (transport\, hôtel\, bateau)\, hébergement à l’hôtel ou en AirBnB.– Licence FFVoile obligatoire. Pour les non-licenciés\, licence temporaire à 34 € ou licence annuelle à 68 €.Pour rappel\, l’AG a voté le remboursement de 35 € pour tout.e adhérent.e prenant une licence annuelle dans le cadre des activités de VCL.– Départ le vendredi soir ou samedi matin\, organisation de covoiturages ou train.– Prévoir une tenue adéquate selon la météo + gants de voile et chaussures fermées. \n\n\n\n\n\nAcompte\n\n\n\n\n\n\n\nPlus d’infos ?Contacte Philippe à voile-legere@vcl.fr
URL:https://vcl.fr/index.php/activite/regate-championnat-dhiver-9/
LOCATION:Société des Régates du Havre\, Quai Eric Tabarly\, Le Havre\, 76600\, France
CATEGORIES:Normandie,Régate,Voile Sportive
ATTACH;FMTTYPE=image/png:https://vcl.fr/wp-content/uploads/2023/12/202206_Regate.png
END:VEVENT
BEGIN:VEVENT
DTSTART;TZID=Europe/Paris:20240305T200000
DTEND;TZID=Europe/Paris:20240305T210000
DTSTAMP:20260420T160612
CREATED:20231206T224143Z
LAST-MODIFIED:20240201T133152Z
UID:10000069-1709668800-1709672400@vcl.fr
SUMMARY:Apéro mensuel en présentiel
DESCRIPTION:Tout le monde est bienvenue. Venez nous rejoindre autour d’un verre et posez vos questions. C’est une excellente façon de faire connaissance avec notre association. \n\n\n\nPlus d’infos ? contact@vcl.fr
URL:https://vcl.fr/index.php/activite/apero-mensuel-en-presentiel-3/
LOCATION:Zebaar\, 41 Rue des Blancs Manteaux\, Paris\, 7004\, France
CATEGORIES:Convivialité,Rencontre
ATTACH;FMTTYPE=image/png:https://vcl.fr/wp-content/uploads/2023/12/pinte-biere.png
END:VEVENT
END:VCALENDAR