BEGIN:VCALENDAR
VERSION:2.0
PRODID:-//Voile et Croisière en Liberté - ECPv6.15.20//NONSGML v1.0//EN
CALSCALE:GREGORIAN
METHOD:PUBLISH
X-WR-CALNAME:Voile et Croisière en Liberté
X-ORIGINAL-URL:https://vcl.fr
X-WR-CALDESC:Évènements pour Voile et Croisière en Liberté
REFRESH-INTERVAL;VALUE=DURATION:PT1H
X-Robots-Tag:noindex
X-PUBLISHED-TTL:PT1H
BEGIN:VTIMEZONE
TZID:Europe/Paris
BEGIN:DAYLIGHT
TZOFFSETFROM:+0100
TZOFFSETTO:+0200
TZNAME:CEST
DTSTART:20240331T010000
END:DAYLIGHT
BEGIN:STANDARD
TZOFFSETFROM:+0200
TZOFFSETTO:+0100
TZNAME:CET
DTSTART:20241027T010000
END:STANDARD
BEGIN:DAYLIGHT
TZOFFSETFROM:+0100
TZOFFSETTO:+0200
TZNAME:CEST
DTSTART:20250330T010000
END:DAYLIGHT
BEGIN:STANDARD
TZOFFSETFROM:+0200
TZOFFSETTO:+0100
TZNAME:CET
DTSTART:20251026T010000
END:STANDARD
BEGIN:DAYLIGHT
TZOFFSETFROM:+0100
TZOFFSETTO:+0200
TZNAME:CEST
DTSTART:20260329T010000
END:DAYLIGHT
BEGIN:STANDARD
TZOFFSETFROM:+0200
TZOFFSETTO:+0100
TZNAME:CET
DTSTART:20261025T010000
END:STANDARD
END:VTIMEZONE
BEGIN:VEVENT
DTSTART;TZID=Europe/Paris:20250501T090000
DTEND;TZID=Europe/Paris:20250505T160000
DTSTAMP:20260424T103708
CREATED:20250128T132835Z
LAST-MODIFIED:20250325T100512Z
UID:10000127-1746090000-1746460800@vcl.fr
SUMMARY:Les Anglo-Normandes au 1er mai
DESCRIPTION:Saint Malo \n\n\n\n Océanis 380 et 410 \n\n\n\n 550 €/pers.Alimentation et trajet non compris \n\n\n\n 550 € à régler pour l’inscription à la dernière place \n\n\n\n\n\n\n\n\n\nAu départ de la cité corsaire\, un vrai dépaysement entre les jeux de la marée aux îles Chausey et le charme so british de Guernesey et Sercq.Passeport indispensable ! \n\n\n\nPossibilité de coucher à bord le mercredi 30 avril. \n\n\n\nDeux bateaux réservés\, il ne reste qu’une seule place. N’attends pas pour t’inscrire ! \n\n\n\n\n\n\n\n\n\nAcompte\n\n\n\n\n\n\n\nIntéressé.e ? Plus d’infos ?Contacte Thierry à croisière@vcl.fr
URL:https://vcl.fr/index.php/activite/les-anglo-normandes-au-1er-mai/
LOCATION:Saint-Malo\, 4 Av. Louis Martin\, Saint-Malo\, 35400\, France
CATEGORIES:Angleterre,Bretagne,Voile Habitable
ATTACH;FMTTYPE=image/jpeg:https://vcl.fr/wp-content/uploads/2025/01/anglo-normandes-2.jpg
END:VEVENT
END:VCALENDAR