BEGIN:VCALENDAR
VERSION:2.0
PRODID:-//Voile et Croisière en Liberté - ECPv6.15.17.1//NONSGML v1.0//EN
CALSCALE:GREGORIAN
METHOD:PUBLISH
X-WR-CALNAME:Voile et Croisière en Liberté
X-ORIGINAL-URL:https://vcl.fr
X-WR-CALDESC:Évènements pour Voile et Croisière en Liberté
REFRESH-INTERVAL;VALUE=DURATION:PT1H
X-Robots-Tag:noindex
X-PUBLISHED-TTL:PT1H
BEGIN:VTIMEZONE
TZID:Europe/Paris
BEGIN:DAYLIGHT
TZOFFSETFROM:+0100
TZOFFSETTO:+0200
TZNAME:CEST
DTSTART:20240331T010000
END:DAYLIGHT
BEGIN:STANDARD
TZOFFSETFROM:+0200
TZOFFSETTO:+0100
TZNAME:CET
DTSTART:20241027T010000
END:STANDARD
BEGIN:DAYLIGHT
TZOFFSETFROM:+0100
TZOFFSETTO:+0200
TZNAME:CEST
DTSTART:20250330T010000
END:DAYLIGHT
BEGIN:STANDARD
TZOFFSETFROM:+0200
TZOFFSETTO:+0100
TZNAME:CET
DTSTART:20251026T010000
END:STANDARD
BEGIN:DAYLIGHT
TZOFFSETFROM:+0100
TZOFFSETTO:+0200
TZNAME:CEST
DTSTART:20260329T010000
END:DAYLIGHT
BEGIN:STANDARD
TZOFFSETFROM:+0200
TZOFFSETTO:+0100
TZNAME:CET
DTSTART:20261025T010000
END:STANDARD
END:VTIMEZONE
BEGIN:VEVENT
DTSTART;TZID=Europe/Paris:20250508T090000
DTEND;TZID=Europe/Paris:20250512T180000
DTSTAMP:20260420T104957
CREATED:20250128T104749Z
LAST-MODIFIED:20250325T101221Z
UID:10000128-1746694800-1747072800@vcl.fr
SUMMARY:Calanques au 8 mai : vogue et grimpe !
DESCRIPTION:Marseille (vieux port) \n\n\n\n Dufour 382 et 390 \n\n\n\n 480 à 520 €/pers.Alimentation et trajet non compris \n\n\n\n 230 € d’acompte par personne \n\n\n\n\n\n\n\n\n\nCOMPLET \n\n\n\nEn coordination avec le GGG (Groupe Grimpe et Glisse) nous proposons une activité combinée dans les superbes calanques marseillaises. Tu es voileux et as envie de t’essayer à l’escalade\, tu es grimpeur et souhaites tester la voile : cette sortie est pour toi. Des experts des 2 clubs seront là pour t’apprendre les rudiments et assurer la sécurité.  \n\n\n\nPossibilité de coucher à bord le mercredi 7 et le lundi 12. \n\n\n\n\n\nAcompte\n\n\n\n\n\n\n\nIntéressé.e ? Plus d’infos ?Contacte Thierry à croisière@vcl.fr
URL:https://vcl.fr/index.php/activite/calanques-au-8-mai-vogue-et-grimpe/
LOCATION:Vieux Port\, Vieux-Port de Marseille\, Marseilles\, 13000\, France
CATEGORIES:Calanques,Méditerranée,Multi activités,Voile Habitable
ATTACH;FMTTYPE=image/jpeg:https://vcl.fr/wp-content/uploads/2025/01/Calanques.jpg.jpg
END:VEVENT
END:VCALENDAR